BEGIN:VCALENDAR
VERSION:2.0
PRODID:-//Golf- und Land-Club Köln e. V. - ECPv4.6.10.1//NONSGML v1.0//EN
CALSCALE:GREGORIAN
METHOD:PUBLISH
X-WR-CALNAME:Golf- und Land-Club Köln e. V.
X-ORIGINAL-URL:https://www.glckoeln.de
X-WR-CALDESC:Veranstaltungen für Golf- und Land-Club Köln e. V.
BEGIN:VEVENT
DTSTART;TZID=Europe/Berlin:20260912T093000
DTEND;TZID=Europe/Berlin:20260912T150000
DTSTAMP:20260425T164850
CREATED:20260202T135546Z
LAST-MODIFIED:20260202T135546Z
UID:20990-1789205400-1789225200@www.glckoeln.de
SUMMARY:Herren AK 50 I+II
DESCRIPTION:
URL:https://www.glckoeln.de/event/herren-ak-50-iii/
END:VEVENT
END:VCALENDAR