BEGIN:VCALENDAR
VERSION:2.0
PRODID:-//Golf- und Land-Club Köln e. V. - ECPv4.6.10.1//NONSGML v1.0//EN
CALSCALE:GREGORIAN
METHOD:PUBLISH
X-WR-CALNAME:Golf- und Land-Club Köln e. V.
X-ORIGINAL-URL:https://www.glckoeln.de
X-WR-CALDESC:Veranstaltungen für Golf- und Land-Club Köln e. V.
BEGIN:VEVENT
DTSTART;TZID=Europe/Berlin:20260909T120000
DTEND;TZID=Europe/Berlin:20260909T173000
DTSTAMP:20260425T113013
CREATED:20260202T145310Z
LAST-MODIFIED:20260202T145310Z
UID:21106-1788955200-1788975000@www.glckoeln.de
SUMMARY:Herrengolf
DESCRIPTION:Tee 1/10 Einzel Stableford Wunschflights \n
URL:https://www.glckoeln.de/event/herrengolf-148/
END:VEVENT
END:VCALENDAR