BEGIN:VCALENDAR
VERSION:2.0
PRODID:-//Golf- und Land-Club Köln e. V. - ECPv4.6.10.1//NONSGML v1.0//EN
CALSCALE:GREGORIAN
METHOD:PUBLISH
X-WR-CALNAME:Golf- und Land-Club Köln e. V.
X-ORIGINAL-URL:https://www.glckoeln.de
X-WR-CALDESC:Veranstaltungen für Golf- und Land-Club Köln e. V.
BEGIN:VEVENT
DTSTART;TZID=Europe/Berlin:20260902T130000
DTEND;TZID=Europe/Berlin:20260902T180000
DTSTAMP:20260424T232713
CREATED:20260202T142514Z
LAST-MODIFIED:20260202T142514Z
UID:21046-1788354000-1788372000@www.glckoeln.de
SUMMARY:Damen vs. Herren
DESCRIPTION:Kanone \n
URL:https://www.glckoeln.de/event/damen-vs-herren-6/
END:VEVENT
END:VCALENDAR