BEGIN:VCALENDAR
VERSION:2.0
PRODID:-//Golf- und Land-Club Köln e. V. - ECPv4.6.10.1//NONSGML v1.0//EN
CALSCALE:GREGORIAN
METHOD:PUBLISH
X-WR-CALNAME:Golf- und Land-Club Köln e. V.
X-ORIGINAL-URL:https://www.glckoeln.de
X-WR-CALDESC:Veranstaltungen für Golf- und Land-Club Köln e. V.
BEGIN:VEVENT
DTSTART;TZID=Europe/Berlin:20260901T170000
DTEND;TZID=Europe/Berlin:20260901T200000
DTSTAMP:20260424T214412
CREATED:20260215T145218Z
LAST-MODIFIED:20260414T093836Z
UID:21188-1788282000-1788292800@www.glckoeln.de
SUMMARY:Seniorinnen-Seniorengolf
DESCRIPTION:Turnier mit der Jugend \nTeamspiel über 9 Löcher \nKanonenstart \n
URL:https://www.glckoeln.de/event/seniorinnen-seniorengolf-53/
END:VEVENT
END:VCALENDAR