BEGIN:VCALENDAR
VERSION:2.0
PRODID:-//Golf- und Land-Club Köln e. V. - ECPv4.6.10.1//NONSGML v1.0//EN
CALSCALE:GREGORIAN
METHOD:PUBLISH
X-WR-CALNAME:Golf- und Land-Club Köln e. V.
X-ORIGINAL-URL:https://www.glckoeln.de
X-WR-CALDESC:Veranstaltungen für Golf- und Land-Club Köln e. V.
BEGIN:VEVENT
DTSTART;TZID=Europe/Berlin:20260828T160000
DTEND;TZID=Europe/Berlin:20260828T180000
DTSTAMP:20260424T152551
CREATED:20260202T135151Z
LAST-MODIFIED:20260202T135151Z
UID:20982-1787932800-1787940000@www.glckoeln.de
SUMMARY:Kinder Clubmeisterschaften
DESCRIPTION:
URL:https://www.glckoeln.de/event/kinder-clubmeisterschaften-4/
END:VEVENT
END:VCALENDAR