BEGIN:VCALENDAR
VERSION:2.0
PRODID:-//Golf- und Land-Club Köln e. V. - ECPv4.6.10.1//NONSGML v1.0//EN
CALSCALE:GREGORIAN
METHOD:PUBLISH
X-WR-CALNAME:Golf- und Land-Club Köln e. V.
X-ORIGINAL-URL:https://www.glckoeln.de
X-WR-CALDESC:Veranstaltungen für Golf- und Land-Club Köln e. V.
BEGIN:VEVENT
DTSTART;TZID=Europe/Berlin:20260827T130000
DTEND;TZID=Europe/Berlin:20260827T173000
DTSTAMP:20260424T133748
CREATED:20260202T142430Z
LAST-MODIFIED:20260202T142430Z
UID:21044-1787835600-1787851800@www.glckoeln.de
SUMMARY:Damengolf
DESCRIPTION:18- & 9-Loch \nnach HCPI \n
URL:https://www.glckoeln.de/event/damengolf-118/
END:VEVENT
END:VCALENDAR