BEGIN:VCALENDAR
VERSION:2.0
PRODID:-//Golf- und Land-Club Köln e. V. - ECPv4.6.10.1//NONSGML v1.0//EN
CALSCALE:GREGORIAN
METHOD:PUBLISH
X-WR-CALNAME:Golf- und Land-Club Köln e. V.
X-ORIGINAL-URL:https://www.glckoeln.de
X-WR-CALDESC:Veranstaltungen für Golf- und Land-Club Köln e. V.
BEGIN:VEVENT
DTSTART;TZID=Europe/Berlin:20260816T100000
DTEND;TZID=Europe/Berlin:20260816T150000
DTSTAMP:20260423T183437
CREATED:20260202T135509Z
LAST-MODIFIED:20260205T090157Z
UID:20988-1786874400-1786892400@www.glckoeln.de
SUMMARY:Hans-Jürgen Ecklebe Preis
DESCRIPTION:Einzel Zählspiel \n  \n
URL:https://www.glckoeln.de/event/hans-juergen-ecklebe-preis-2/
END:VEVENT
END:VCALENDAR