BEGIN:VCALENDAR
VERSION:2.0
PRODID:-//Golf- und Land-Club Köln e. V. - ECPv4.6.10.1//NONSGML v1.0//EN
CALSCALE:GREGORIAN
METHOD:PUBLISH
X-WR-CALNAME:Golf- und Land-Club Köln e. V.
X-ORIGINAL-URL:https://www.glckoeln.de
X-WR-CALDESC:Veranstaltungen für Golf- und Land-Club Köln e. V.
BEGIN:VEVENT
DTSTART;TZID=Europe/Berlin:20260804T110000
DTEND;TZID=Europe/Berlin:20260804T140000
DTSTAMP:20260423T011234
CREATED:20260215T144326Z
LAST-MODIFIED:20260215T144326Z
UID:21180-1785841200-1785852000@www.glckoeln.de
SUMMARY:Seniorinnen-Seniorengolf
DESCRIPTION:Einzel-Stableford \nWahlweise 9 oder 18 Löcher \nTee 1 \n
URL:https://www.glckoeln.de/event/seniorinnen-seniorengolf-49/
END:VEVENT
END:VCALENDAR