BEGIN:VCALENDAR
VERSION:2.0
PRODID:-//Golf- und Land-Club Köln e. V. - ECPv4.6.10.1//NONSGML v1.0//EN
CALSCALE:GREGORIAN
METHOD:PUBLISH
X-WR-CALNAME:Golf- und Land-Club Köln e. V.
X-ORIGINAL-URL:https://www.glckoeln.de
X-WR-CALDESC:Veranstaltungen für Golf- und Land-Club Köln e. V.
BEGIN:VEVENT
DTSTART;TZID=Europe/Berlin:20260730T130000
DTEND;TZID=Europe/Berlin:20260730T180000
DTSTAMP:20260422T173150
CREATED:20260202T142324Z
LAST-MODIFIED:20260202T142324Z
UID:21040-1785416400-1785434400@www.glckoeln.de
SUMMARY:Damengolf Freundschaftsspiel mit GC Hubbelrath
DESCRIPTION:Kanone \n
URL:https://www.glckoeln.de/event/damengolf-freundschaftsspiel-mit-gc-hubbelrath/
END:VEVENT
END:VCALENDAR