BEGIN:VCALENDAR
VERSION:2.0
PRODID:-//Golf- und Land-Club Köln e. V. - ECPv4.6.10.1//NONSGML v1.0//EN
CALSCALE:GREGORIAN
METHOD:PUBLISH
X-WR-CALNAME:Golf- und Land-Club Köln e. V.
X-ORIGINAL-URL:https://www.glckoeln.de
X-WR-CALDESC:Veranstaltungen für Golf- und Land-Club Köln e. V.
BEGIN:VEVENT
DTSTART;TZID=Europe/Berlin:20260722T120000
DTEND;TZID=Europe/Berlin:20260722T173000
DTSTAMP:20260422T050350
CREATED:20260202T144700Z
LAST-MODIFIED:20260202T144700Z
UID:21094-1784721600-1784741400@www.glckoeln.de
SUMMARY:Herrengolf
DESCRIPTION:Tee 1/10 Einzel Stableford Wunschflights \n
URL:https://www.glckoeln.de/event/herrengolf-142/
END:VEVENT
END:VCALENDAR