BEGIN:VCALENDAR
VERSION:2.0
PRODID:-//Golf- und Land-Club Köln e. V. - ECPv4.6.10.1//NONSGML v1.0//EN
CALSCALE:GREGORIAN
METHOD:PUBLISH
X-WR-CALNAME:Golf- und Land-Club Köln e. V.
X-ORIGINAL-URL:https://www.glckoeln.de
X-WR-CALDESC:Veranstaltungen für Golf- und Land-Club Köln e. V.
BEGIN:VEVENT
DTSTART;TZID=Europe/Berlin:20260717T160000
DTEND;TZID=Europe/Berlin:20260717T180000
DTSTAMP:20260421T213923
CREATED:20260202T134126Z
LAST-MODIFIED:20260202T134126Z
UID:20972-1784304000-1784311200@www.glckoeln.de
SUMMARY:After Work Turnier
DESCRIPTION:9 Loch \n
URL:https://www.glckoeln.de/event/after-work-turnier-5/
END:VEVENT
END:VCALENDAR