BEGIN:VCALENDAR
VERSION:2.0
PRODID:-//Golf- und Land-Club Köln e. V. - ECPv4.6.10.1//NONSGML v1.0//EN
CALSCALE:GREGORIAN
METHOD:PUBLISH
X-WR-CALNAME:Golf- und Land-Club Köln e. V.
X-ORIGINAL-URL:https://www.glckoeln.de
X-WR-CALDESC:Veranstaltungen für Golf- und Land-Club Köln e. V.
BEGIN:VEVENT
DTSTART;TZID=Europe/Berlin:20171210T180000
DTEND;TZID=Europe/Berlin:20171210T193000
DTSTAMP:20260423T142938
CREATED:20171204T101910Z
LAST-MODIFIED:20171204T101910Z
UID:6811-1512928800-1512934200@www.glckoeln.de
SUMMARY:Themenabend Fotografie
DESCRIPTION:\n Themenabend im Golf- und Land-Club Köln\n\nWie bereits in der Mail vom 16. November angekündigt\, nutzen wir die fast turnierfreie Zeit bis Ende März für unterschiedliche Themenabende im Clubhaus. Geplant sind weitere Fachvorträge\, eine Lesung und ein musikalischer Beitrag. \nBeginnen werden wir mit dem Thema Fotografie\, am 10. Dezember\, um 18.00 Uhr. \nHierfür konnten wir den Fotograf und Künstler Jörg Seiler gewinnen. \nIm Laufe dieses Abends wird Ihnen Jörg Seiler Einblick in seine ganz persönliche Welt als Fotograf gewähren. \nEr informiert Sie über die Arbeit mit speziellen Fachkamera-systemen. \nSein Hauptanliegen ist es jedoch\, Ihnen die Möglichkeit zu geben\, seinen Schaffensprozess anhand einiger ganz konkreter Beispiele nachzuvollziehen. \nEin weiterer Schwerpunkt werden seine Arbeiten der letzten zwei Monaten rund um den Golfplatz sein. \nEinige seiner Werke werden Sie im Original sehen. \nFreuen Sie sich also auf einen interessanten Abend rund um die Fotografie. \nZur besseren Planung bitten wir Sie\, sich zu diesem Abend anzumelden. Die Teilnahme ist kostenlos. \nDie weiteren Termine und Themen werden wir Ihnen rechtzeitig bekanntgeben. \n
URL:https://www.glckoeln.de/event/themenabend-fotografie/
END:VEVENT
END:VCALENDAR