BEGIN:VCALENDAR
VERSION:2.0
PRODID:-//Golf- und Land-Club Köln e. V. - ECPv4.6.10.1//NONSGML v1.0//EN
CALSCALE:GREGORIAN
METHOD:PUBLISH
X-WR-CALNAME:Golf- und Land-Club Köln e. V.
X-ORIGINAL-URL:https://www.glckoeln.de
X-WR-CALDESC:Veranstaltungen für Golf- und Land-Club Köln e. V.
BEGIN:VEVENT
DTSTART;TZID=Europe/Berlin:20180515T110000
DTEND;TZID=Europe/Berlin:20180515T110000
DTSTAMP:20260421T131754
CREATED:20180509T105507Z
LAST-MODIFIED:20180509T105507Z
UID:7852-1526382000-1526382000@www.glckoeln.de
SUMMARY:Seniorengolf - Dienstagstreff (kein Turnier)
DESCRIPTION:11 Uhr findet ein loses Treffen statt \n
URL:https://www.glckoeln.de/event/seniorengolf-dienstagstreff-kein-turnier/
LOCATION:Golfplatz 2\, Bergisch Gladbach\, NRW\, 51429\, Deutschland
END:VEVENT
END:VCALENDAR