BEGIN:VCALENDAR
VERSION:2.0
PRODID:-//Golf- und Land-Club Köln e. V. - ECPv4.6.10.1//NONSGML v1.0//EN
CALSCALE:GREGORIAN
METHOD:PUBLISH
X-WR-CALNAME:Golf- und Land-Club Köln e. V.
X-ORIGINAL-URL:https://www.glckoeln.de
X-WR-CALDESC:Veranstaltungen für Golf- und Land-Club Köln e. V.
BEGIN:VEVENT
DTSTART;TZID=Europe/Berlin:20180422T103000
DTEND;TZID=Europe/Berlin:20180422T153000
DTSTAMP:20260422T120957
CREATED:20180206T130102Z
LAST-MODIFIED:20180421T193831Z
UID:7175-1524393000-1524411000@www.glckoeln.de
SUMMARY:Preis der Gastronomie
DESCRIPTION:Ab 09:00 Uhr Frühstück \n10:3o Uhr Kanonenstart \n
URL:https://www.glckoeln.de/event/preis-der-gastronomie/
END:VEVENT
END:VCALENDAR