BEGIN:VCALENDAR
VERSION:2.0
PRODID:-//Golf- und Land-Club Köln e. V. - ECPv4.6.10.1//NONSGML v1.0//EN
CALSCALE:GREGORIAN
METHOD:PUBLISH
X-WR-CALNAME:Golf- und Land-Club Köln e. V.
X-ORIGINAL-URL:https://www.glckoeln.de
X-WR-CALDESC:Veranstaltungen für Golf- und Land-Club Köln e. V.
BEGIN:VEVENT
DTSTART;TZID=Europe/Berlin:20180414T090000
DTEND;TZID=Europe/Berlin:20180414T110000
DTSTAMP:20260422T180136
CREATED:20180206T104030Z
LAST-MODIFIED:20180206T130813Z
UID:7171-1523696400-1523703600@www.glckoeln.de
SUMMARY:Monatsbecher
DESCRIPTION:
URL:https://www.glckoeln.de/event/monatsbecher-7/
END:VEVENT
END:VCALENDAR