BEGIN:VCALENDAR
VERSION:2.0
PRODID:-//Golf- und Land-Club Köln e. V. - ECPv4.6.10.1//NONSGML v1.0//EN
CALSCALE:GREGORIAN
METHOD:PUBLISH
X-WR-CALNAME:Golf- und Land-Club Köln e. V.
X-ORIGINAL-URL:https://www.glckoeln.de
X-WR-CALDESC:Veranstaltungen für Golf- und Land-Club Köln e. V.
BEGIN:VEVENT
DTSTART;TZID=Europe/Berlin:20180515T163000
DTEND;TZID=Europe/Berlin:20180515T180000
DTSTAMP:20260421T114230
CREATED:20180513T172058Z
LAST-MODIFIED:20180513T172058Z
UID:7890-1526401800-1526407200@www.glckoeln.de
SUMMARY:Jugendvergleich mit Marienburg
DESCRIPTION:Start von Tee 1 \n
URL:https://www.glckoeln.de/event/jugendvergleich-mit-marienburg/
END:VEVENT
END:VCALENDAR