BEGIN:VCALENDAR
VERSION:2.0
PRODID:-//Golf- und Land-Club Köln e. V. - ECPv4.6.10.1//NONSGML v1.0//EN
CALSCALE:GREGORIAN
METHOD:PUBLISH
X-WR-CALNAME:Golf- und Land-Club Köln e. V.
X-ORIGINAL-URL:https://www.glckoeln.de
X-WR-CALDESC:Veranstaltungen für Golf- und Land-Club Köln e. V.
BEGIN:VEVENT
DTSTART;TZID=Europe/Berlin:20180509T133000
DTEND;TZID=Europe/Berlin:20180509T180000
DTSTAMP:20260421T201225
CREATED:20180227T100059Z
LAST-MODIFIED:20180429T081317Z
UID:7394-1525872600-1525888800@www.glckoeln.de
SUMMARY:Herrengolf
DESCRIPTION:Stableford (V)\nTee 1 und 10\n
URL:https://www.glckoeln.de/event/herrengolf-8/
END:VEVENT
END:VCALENDAR