BEGIN:VCALENDAR
VERSION:2.0
PRODID:-//Golf- und Land-Club Köln e. V. - ECPv4.6.10.1//NONSGML v1.0//EN
CALSCALE:GREGORIAN
METHOD:PUBLISH
X-WR-CALNAME:Golf- und Land-Club Köln e. V.
X-ORIGINAL-URL:https://www.glckoeln.de
X-WR-CALDESC:Veranstaltungen für Golf- und Land-Club Köln e. V.
BEGIN:VEVENT
DTSTART;TZID=Europe/Berlin:20180418T130000
DTEND;TZID=Europe/Berlin:20180418T160000
DTSTAMP:20260422T151224
CREATED:20180227T095833Z
LAST-MODIFIED:20180227T095833Z
UID:7388-1524056400-1524067200@www.glckoeln.de
SUMMARY:Herrengolf
DESCRIPTION:Stableford\n
URL:https://www.glckoeln.de/event/herrengolf-5/
END:VEVENT
END:VCALENDAR