BEGIN:VCALENDAR
VERSION:2.0
PRODID:-//Golf- und Land-Club Köln e. V. - ECPv4.6.10.1//NONSGML v1.0//EN
CALSCALE:GREGORIAN
METHOD:PUBLISH
X-WR-CALNAME:Golf- und Land-Club Köln e. V.
X-ORIGINAL-URL:https://www.glckoeln.de
X-WR-CALDESC:Veranstaltungen für Golf- und Land-Club Köln e. V.
BEGIN:VEVENT
DTSTART;TZID=Europe/Berlin:20180513T000000
DTEND;TZID=Europe/Berlin:20180513T180000
DTSTAMP:20260421T165419
CREATED:20180206T104617Z
LAST-MODIFIED:20180429T082429Z
UID:7185-1526169600-1526234400@www.glckoeln.de
SUMMARY:Herren Kramski DGL
DESCRIPTION:Der Platz ist bis voraussichtlich 18.00 Uhr gesperrt. Der Start vor dem Turnier ist nicht möglich. \n
URL:https://www.glckoeln.de/event/herren-kramski-dgl/
END:VEVENT
END:VCALENDAR