BEGIN:VCALENDAR
VERSION:2.0
PRODID:-//Golf- und Land-Club Köln e. V. - ECPv4.6.10.1//NONSGML v1.0//EN
CALSCALE:GREGORIAN
METHOD:PUBLISH
X-WR-CALNAME:Golf- und Land-Club Köln e. V.
X-ORIGINAL-URL:https://www.glckoeln.de
X-WR-CALDESC:Veranstaltungen für Golf- und Land-Club Köln e. V.
BEGIN:VEVENT
DTSTART;TZID=Europe/Berlin:20180501T090000
DTEND;TZID=Europe/Berlin:20180501T120000
DTSTAMP:20260422T052015
CREATED:20180206T104309Z
LAST-MODIFIED:20180206T130805Z
UID:7177-1525165200-1525176000@www.glckoeln.de
SUMMARY:Gründerpokal
DESCRIPTION:
URL:https://www.glckoeln.de/event/gruenderpokal/
END:VEVENT
END:VCALENDAR