BEGIN:VCALENDAR
VERSION:2.0
PRODID:-//Golf- und Land-Club Köln e. V. - ECPv4.6.10.1//NONSGML v1.0//EN
CALSCALE:GREGORIAN
METHOD:PUBLISH
X-WR-CALNAME:Golf- und Land-Club Köln e. V.
X-ORIGINAL-URL:https://www.glckoeln.de
X-WR-CALDESC:Veranstaltungen für Golf- und Land-Club Köln e. V.
BEGIN:VEVENT
DTSTART;TZID=Europe/Berlin:20180329T170000
DTEND;TZID=Europe/Berlin:20180329T200000
DTSTAMP:20260423T051951
CREATED:20180227T104546Z
LAST-MODIFIED:20180227T104546Z
UID:7445-1522342800-1522353600@www.glckoeln.de
SUMMARY:Damengolf
DESCRIPTION:Wintereclectic Siegerehrung \n
URL:https://www.glckoeln.de/event/damengolf/
LOCATION:Golfplatz 2\, Bergisch Gladbach\, NRW\, 51429\, Deutschland
END:VEVENT
END:VCALENDAR