BEGIN:VCALENDAR
VERSION:2.0
PRODID:-//Golf- und Land-Club Köln e. V. - ECPv4.6.10.1//NONSGML v1.0//EN
CALSCALE:GREGORIAN
METHOD:PUBLISH
X-WR-CALNAME:Golf- und Land-Club Köln e. V.
X-ORIGINAL-URL:https://www.glckoeln.de
X-WR-CALDESC:Veranstaltungen für Golf- und Land-Club Köln e. V.
BEGIN:VEVENT
DTSTART;TZID=Europe/Berlin:20180419T130000
DTEND;TZID=Europe/Berlin:20180419T160000
DTSTAMP:20260422T134855
CREATED:20180227T104826Z
LAST-MODIFIED:20180418T151356Z
UID:7452-1524142800-1524153600@www.glckoeln.de
SUMMARY:Damengolf
DESCRIPTION:Stableford / Snake bzw. Pinkball \nTee 1 und 10 \n
URL:https://www.glckoeln.de/event/damengolf-4/
LOCATION:Golfplatz 2\, Bergisch Gladbach\, NRW\, 51429\, Deutschland
END:VEVENT
END:VCALENDAR