BEGIN:VCALENDAR
VERSION:2.0
PRODID:-//Golf- und Land-Club Köln e. V. - ECPv4.6.10.1//NONSGML v1.0//EN
CALSCALE:GREGORIAN
METHOD:PUBLISH
X-WR-CALNAME:Golf- und Land-Club Köln e. V.
X-ORIGINAL-URL:https://www.glckoeln.de
X-WR-CALDESC:Veranstaltungen für Golf- und Land-Club Köln e. V.
BEGIN:VEVENT
DTSTART;TZID=Europe/Berlin:20180506T173000
DTEND;TZID=Europe/Berlin:20180506T200000
DTSTAMP:20260421T230629
CREATED:20180416T141908Z
LAST-MODIFIED:20180416T142107Z
UID:7663-1525627800-1525636800@www.glckoeln.de
SUMMARY:Cocktail zur Saisoneröffnung
DESCRIPTION:
URL:https://www.glckoeln.de/event/cocktail-zur-saisoneroeffnung-2/
END:VEVENT
END:VCALENDAR