BEGIN:VCALENDAR
VERSION:2.0
PRODID:-//Golf- und Land-Club Köln e. V. - ECPv4.6.10.1//NONSGML v1.0//EN
CALSCALE:GREGORIAN
METHOD:PUBLISH
X-WR-CALNAME:Golf- und Land-Club Köln e. V.
X-ORIGINAL-URL:https://www.glckoeln.de
X-WR-CALDESC:Veranstaltungen für Golf- und Land-Club Köln e. V.
BEGIN:VEVENT
DTSTART;VALUE=DATE:20171218
DTEND;VALUE=DATE:20180203
DTSTAMP:20260423T125006
CREATED:20171220T163206Z
LAST-MODIFIED:20180202T084503Z
UID:7049-1513555200-1517615999@www.glckoeln.de
SUMMARY:Club geschlossen
DESCRIPTION:Das Clubhaus ist vom 18. Dezember 2017 bis 02. Februar 2018 geschlossen. Der Platz ist aufgrund der Sturmschäden ebenfalls geschlossen. \n
URL:https://www.glckoeln.de/event/club-geschlossen/
END:VEVENT
END:VCALENDAR